BEGIN:VCALENDAR
VERSION:2.0
PRODID:spatie/icalendar-generator
NAME:Audit 204: Auditing Basic Inventory - Focus on Observations
X-WR-CALNAME:Audit 204: Auditing Basic Inventory - Focus on Observations
BEGIN:VTIMEZONE
TZID:America/Chicago
BEGIN:STANDARD
DTSTART:20241103T010000
TZOFFSETFROM:-0500
TZOFFSETTO:-0600
END:STANDARD
BEGIN:DAYLIGHT
DTSTART:20250309T010000
TZOFFSETFROM:-0600
TZOFFSETTO:-0500
END:DAYLIGHT
END:VTIMEZONE
BEGIN:VTIMEZONE
TZID:UTC
BEGIN:STANDARD
DTSTART:20250723T134728
TZOFFSETFROM:+0000
TZOFFSETTO:+0000
END:STANDARD
END:VTIMEZONE
BEGIN:VEVENT
UID:69e4dcf05e640
DTSTAMP:20260419T134728Z
SUMMARY:Audit 204: Auditing Basic Inventory - Focus on Observations
URL:https://alabama.cpa/catalog/events/6540832-audit-204-auditing-basic-inv
 entory-focus-on-observations-2025-09-04
DTSTART;TZID=America/Chicago:20250409T123000
DTEND;TZID=America/Chicago:20250409T143000
END:VEVENT
END:VCALENDAR