BEGIN:VCALENDAR
VERSION:2.0
PRODID:spatie/icalendar-generator
NAME:Risk Assessment for Small Business Audits
X-WR-CALNAME:Risk Assessment for Small Business Audits
BEGIN:VTIMEZONE
TZID:America/Chicago
BEGIN:STANDARD
DTSTART:20241103T010000
TZOFFSETFROM:-0500
TZOFFSETTO:-0600
END:STANDARD
BEGIN:DAYLIGHT
DTSTART:20250309T010000
TZOFFSETFROM:-0600
TZOFFSETTO:-0500
END:DAYLIGHT
END:VTIMEZONE
BEGIN:VTIMEZONE
TZID:UTC
BEGIN:STANDARD
DTSTART:20250723T191619
TZOFFSETFROM:+0000
TZOFFSETTO:+0000
END:STANDARD
END:VTIMEZONE
BEGIN:VEVENT
UID:69e52a0395169
DTSTAMP:20260419T191619Z
SUMMARY:Risk Assessment for Small Business Audits
URL:https://alabama.cpa/catalog/events/6541174-risk-assessment-for-small-bu
 siness-audits-2025-16-04
DTSTART;TZID=America/Chicago:20250416T110000
DTEND;TZID=America/Chicago:20250416T130000
END:VEVENT
END:VCALENDAR