BEGIN:VCALENDAR
VERSION:2.0
PRODID:spatie/icalendar-generator
NAME:Audit 405: Designing Internal Controls for Smaller Entities
X-WR-CALNAME:Audit 405: Designing Internal Controls for Smaller Entities
BEGIN:VTIMEZONE
TZID:America/Chicago
BEGIN:STANDARD
DTSTART:20241103T010000
TZOFFSETFROM:-0500
TZOFFSETTO:-0600
END:STANDARD
BEGIN:DAYLIGHT
DTSTART:20250309T010000
TZOFFSETFROM:-0600
TZOFFSETTO:-0500
END:DAYLIGHT
END:VTIMEZONE
BEGIN:VTIMEZONE
TZID:UTC
BEGIN:STANDARD
DTSTART:20250728T041435
TZOFFSETFROM:+0000
TZOFFSETTO:+0000
END:STANDARD
END:VTIMEZONE
BEGIN:VEVENT
UID:69eaee2b09bc0
DTSTAMP:20260424T041435Z
SUMMARY:Audit 405: Designing Internal Controls for Smaller Entities
URL:https://alabama.cpa/catalog/events/6541550-audit-405-designing-internal
 -controls-for-smaller-entities-2025-24-04
DTSTART;TZID=America/Chicago:20250424T100000
DTEND;TZID=America/Chicago:20250424T120000
END:VEVENT
END:VCALENDAR