BEGIN:VCALENDAR
VERSION:2.0
PRODID:spatie/icalendar-generator
NAME:Top 10 Payroll Questions You Didn't Even Know You Had
X-WR-CALNAME:Top 10 Payroll Questions You Didn't Even Know You Had
BEGIN:VTIMEZONE
TZID:America/Chicago
BEGIN:STANDARD
DTSTART:20241103T010000
TZOFFSETFROM:-0500
TZOFFSETTO:-0600
END:STANDARD
BEGIN:DAYLIGHT
DTSTART:20250309T010000
TZOFFSETFROM:-0600
TZOFFSETTO:-0500
END:DAYLIGHT
END:VTIMEZONE
BEGIN:VTIMEZONE
TZID:UTC
BEGIN:STANDARD
DTSTART:20250724T221910
TZOFFSETFROM:+0000
TZOFFSETTO:+0000
END:STANDARD
END:VTIMEZONE
BEGIN:VEVENT
UID:69e6a65e6a542
DTSTAMP:20260420T221910Z
SUMMARY:Top 10 Payroll Questions You Didn't Even Know You Had
URL:https://alabama.cpa/catalog/events/6541751-top-10-payroll-questions-you
 -didnt-even-know-you-had-2025-29-04
DTSTART;TZID=America/Chicago:20250429T080000
DTEND;TZID=America/Chicago:20250429T090000
END:VEVENT
END:VCALENDAR