BEGIN:VCALENDAR
VERSION:2.0
PRODID:spatie/icalendar-generator
NAME:Predictive Accounting: Driver-Based Budgeting & Rolling Financial Fore
 casts
X-WR-CALNAME:Predictive Accounting: Driver-Based Budgeting & Rolling Financ
 ial Forecasts
BEGIN:VTIMEZONE
TZID:America/Chicago
BEGIN:STANDARD
DTSTART:20241103T010000
TZOFFSETFROM:-0500
TZOFFSETTO:-0600
END:STANDARD
BEGIN:DAYLIGHT
DTSTART:20250309T010000
TZOFFSETFROM:-0600
TZOFFSETTO:-0500
END:DAYLIGHT
BEGIN:STANDARD
DTSTART:20251102T010000
TZOFFSETFROM:-0500
TZOFFSETTO:-0600
END:STANDARD
END:VTIMEZONE
BEGIN:VTIMEZONE
TZID:UTC
BEGIN:STANDARD
DTSTART:20250727T125618
TZOFFSETFROM:+0000
TZOFFSETTO:+0000
END:STANDARD
END:VTIMEZONE
BEGIN:VEVENT
UID:69ea16f25bf87
DTSTAMP:20260423T125618Z
SUMMARY:Predictive Accounting: Driver-Based Budgeting & Rolling Financial F
 orecasts
URL:https://alabama.cpa/catalog/events/7161179-predictive-accounting-driver
 -based-budgeting-rolling-financial-forecasts-2025-14-05
DTSTART;TZID=America/Chicago:20250514T120000
DTEND;TZID=America/Chicago:20250514T134800
END:VEVENT
END:VCALENDAR