BEGIN:VCALENDAR
VERSION:2.0
PRODID:spatie/icalendar-generator
NAME:Tax Power Ethics for Tax Professionals
X-WR-CALNAME:Tax Power Ethics for Tax Professionals
BEGIN:VTIMEZONE
TZID:America/Chicago
BEGIN:STANDARD
DTSTART:20241103T010000
TZOFFSETFROM:-0500
TZOFFSETTO:-0600
END:STANDARD
BEGIN:DAYLIGHT
DTSTART:20250309T010000
TZOFFSETFROM:-0600
TZOFFSETTO:-0500
END:DAYLIGHT
BEGIN:STANDARD
DTSTART:20251102T010000
TZOFFSETFROM:-0500
TZOFFSETTO:-0600
END:STANDARD
END:VTIMEZONE
BEGIN:VTIMEZONE
TZID:UTC
BEGIN:STANDARD
DTSTART:20250728T093834
TZOFFSETFROM:+0000
TZOFFSETTO:+0000
END:STANDARD
END:VTIMEZONE
BEGIN:VEVENT
UID:69eb3a1a64346
DTSTAMP:20260424T093834Z
SUMMARY:Tax Power Ethics for Tax Professionals
URL:https://alabama.cpa/catalog/events/7161310-tax-power-ethics-for-tax-pro
 fessionals-2025-21-05
DTSTART;TZID=America/Chicago:20250521T110000
DTEND;TZID=America/Chicago:20250521T124700
END:VEVENT
END:VCALENDAR