BEGIN:VCALENDAR
VERSION:2.0
PRODID:spatie/icalendar-generator
NAME:Communication Miracles At Work and In Life - Part 1
X-WR-CALNAME:Communication Miracles At Work and In Life - Part 1
BEGIN:VTIMEZONE
TZID:America/Chicago
BEGIN:STANDARD
DTSTART:20241103T010000
TZOFFSETFROM:-0500
TZOFFSETTO:-0600
END:STANDARD
BEGIN:DAYLIGHT
DTSTART:20250309T010000
TZOFFSETFROM:-0600
TZOFFSETTO:-0500
END:DAYLIGHT
BEGIN:STANDARD
DTSTART:20251102T010000
TZOFFSETFROM:-0500
TZOFFSETTO:-0600
END:STANDARD
END:VTIMEZONE
BEGIN:VTIMEZONE
TZID:UTC
BEGIN:STANDARD
DTSTART:20250724T190937
TZOFFSETFROM:+0000
TZOFFSETTO:+0000
END:STANDARD
END:VTIMEZONE
BEGIN:VEVENT
UID:69e679f1165ce
DTSTAMP:20260420T190937Z
SUMMARY:Communication Miracles At Work and In Life - Part 1
URL:https://alabama.cpa/catalog/events/7161333-communication-miracles-at-wo
 rk-and-in-life-part-1-2025-23-05
DTSTART;TZID=America/Chicago:20250523T140000
DTEND;TZID=America/Chicago:20250523T173400
END:VEVENT
END:VCALENDAR