BEGIN:VCALENDAR
VERSION:2.0
PRODID:spatie/icalendar-generator
NAME:Global Internal Audit Standards (GIAS) Domain V - Part 2
X-WR-CALNAME:Global Internal Audit Standards (GIAS) Domain V - Part 2
BEGIN:VTIMEZONE
TZID:America/Chicago
BEGIN:STANDARD
DTSTART:20241103T010000
TZOFFSETFROM:-0500
TZOFFSETTO:-0600
END:STANDARD
BEGIN:DAYLIGHT
DTSTART:20250309T010000
TZOFFSETFROM:-0600
TZOFFSETTO:-0500
END:DAYLIGHT
BEGIN:STANDARD
DTSTART:20251102T010000
TZOFFSETFROM:-0500
TZOFFSETTO:-0600
END:STANDARD
END:VTIMEZONE
BEGIN:VTIMEZONE
TZID:UTC
BEGIN:STANDARD
DTSTART:20250725T081658
TZOFFSETFROM:+0000
TZOFFSETTO:+0000
END:STANDARD
END:VTIMEZONE
BEGIN:VEVENT
UID:69e7327a03603
DTSTAMP:20260421T081658Z
SUMMARY:Global Internal Audit Standards (GIAS) Domain V - Part 2
URL:https://alabama.cpa/catalog/events/7161643-global-internal-audit-standa
 rds-gias-domain-v-part-2-2025-04-06
DTSTART;TZID=America/Chicago:20250604T100000
DTEND;TZID=America/Chicago:20250604T113800
END:VEVENT
END:VCALENDAR