BEGIN:VCALENDAR
VERSION:2.0
PRODID:spatie/icalendar-generator
NAME:Annual Update on the 2024 Revised Uniform Guidance And Time & Effort R
 eporting
X-WR-CALNAME:Annual Update on the 2024 Revised Uniform Guidance And Time & 
 Effort Reporting
BEGIN:VTIMEZONE
TZID:America/Chicago
BEGIN:STANDARD
DTSTART:20241103T010000
TZOFFSETFROM:-0500
TZOFFSETTO:-0600
END:STANDARD
BEGIN:DAYLIGHT
DTSTART:20250309T010000
TZOFFSETFROM:-0600
TZOFFSETTO:-0500
END:DAYLIGHT
BEGIN:STANDARD
DTSTART:20251102T010000
TZOFFSETFROM:-0500
TZOFFSETTO:-0600
END:STANDARD
END:VTIMEZONE
BEGIN:VTIMEZONE
TZID:UTC
BEGIN:STANDARD
DTSTART:20250726T124918
TZOFFSETFROM:+0000
TZOFFSETTO:+0000
END:STANDARD
END:VTIMEZONE
BEGIN:VEVENT
UID:69e8c3cec0aac
DTSTAMP:20260422T124918Z
SUMMARY:Annual Update on the 2024 Revised Uniform Guidance And Time & Effor
 t Reporting
URL:https://alabama.cpa/catalog/events/7162709-annual-update-on-the-2024-re
 vised-uniform-guidance-and-time-effort-reporting-2025-18-06
DTSTART;TZID=America/Chicago:20250618T110000
DTEND;TZID=America/Chicago:20250618T124900
END:VEVENT
END:VCALENDAR