BEGIN:VCALENDAR
VERSION:2.0
PRODID:spatie/icalendar-generator
NAME:Feeling Stressed from Change & Uncertainty? How to Stay Positive when 
 Things Get Tough
X-WR-CALNAME:Feeling Stressed from Change & Uncertainty? How to Stay Positi
 ve when Things Get Tough
BEGIN:VTIMEZONE
TZID:America/Chicago
BEGIN:STANDARD
DTSTART:20241103T010000
TZOFFSETFROM:-0500
TZOFFSETTO:-0600
END:STANDARD
BEGIN:DAYLIGHT
DTSTART:20250309T010000
TZOFFSETFROM:-0600
TZOFFSETTO:-0500
END:DAYLIGHT
BEGIN:STANDARD
DTSTART:20251102T010000
TZOFFSETFROM:-0500
TZOFFSETTO:-0600
END:STANDARD
END:VTIMEZONE
BEGIN:VTIMEZONE
TZID:UTC
BEGIN:STANDARD
DTSTART:20250727T092150
TZOFFSETFROM:+0000
TZOFFSETTO:+0000
END:STANDARD
END:VTIMEZONE
BEGIN:VEVENT
UID:69e9e4ae4baab
DTSTAMP:20260423T092150Z
SUMMARY:Feeling Stressed from Change & Uncertainty? How to Stay Positive wh
 en Things Get Tough
URL:https://alabama.cpa/catalog/events/7163173-feeling-stressed-from-change
 -uncertainty-how-to-stay-positive-when-things-get-tough-2025-25-06
DTSTART;TZID=America/Chicago:20250625T140000
DTEND;TZID=America/Chicago:20250625T153300
END:VEVENT
END:VCALENDAR