BEGIN:VCALENDAR
VERSION:2.0
PRODID:spatie/icalendar-generator
NAME:Implementing and Maintaining an Internal Control System
X-WR-CALNAME:Implementing and Maintaining an Internal Control System
BEGIN:VTIMEZONE
TZID:America/Chicago
BEGIN:STANDARD
DTSTART:20241103T010000
TZOFFSETFROM:-0500
TZOFFSETTO:-0600
END:STANDARD
BEGIN:DAYLIGHT
DTSTART:20250309T010000
TZOFFSETFROM:-0600
TZOFFSETTO:-0500
END:DAYLIGHT
BEGIN:STANDARD
DTSTART:20251102T010000
TZOFFSETFROM:-0500
TZOFFSETTO:-0600
END:STANDARD
END:VTIMEZONE
BEGIN:VTIMEZONE
TZID:UTC
BEGIN:STANDARD
DTSTART:20250729T185726
TZOFFSETFROM:+0000
TZOFFSETTO:+0000
END:STANDARD
END:VTIMEZONE
BEGIN:VEVENT
UID:69ed0e96829f4
DTSTAMP:20260425T185726Z
SUMMARY:Implementing and Maintaining an Internal Control System
URL:https://alabama.cpa/catalog/events/7193987-implementing-and-maintaining
 -an-internal-control-system-2025-27-06
DTSTART;TZID=America/Chicago:20250627T080000
DTEND;TZID=America/Chicago:20250627T160000
END:VEVENT
END:VCALENDAR