BEGIN:VCALENDAR
VERSION:2.0
PRODID:spatie/icalendar-generator
NAME:Will Your Ethics Be Burned by Burnout?
X-WR-CALNAME:Will Your Ethics Be Burned by Burnout?
BEGIN:VTIMEZONE
TZID:America/Chicago
BEGIN:DAYLIGHT
DTSTART:20250309T010000
TZOFFSETFROM:-0600
TZOFFSETTO:-0500
END:DAYLIGHT
BEGIN:STANDARD
DTSTART:20251102T010000
TZOFFSETFROM:-0500
TZOFFSETTO:-0600
END:STANDARD
BEGIN:DAYLIGHT
DTSTART:20260308T010000
TZOFFSETFROM:-0600
TZOFFSETTO:-0500
END:DAYLIGHT
END:VTIMEZONE
BEGIN:VTIMEZONE
TZID:UTC
BEGIN:STANDARD
DTSTART:20250725T095415
TZOFFSETFROM:+0000
TZOFFSETTO:+0000
END:STANDARD
END:VTIMEZONE
BEGIN:VEVENT
UID:69e749476666f
DTSTAMP:20260421T095415Z
SUMMARY:Will Your Ethics Be Burned by Burnout?
URL:https://alabama.cpa/catalog/events/7194439-will-your-ethics-be-burned-b
 y-burnout-2025-30-09
DTSTART;TZID=America/Chicago:20250930T093000
DTEND;TZID=America/Chicago:20250930T113000
END:VEVENT
END:VCALENDAR