BEGIN:VCALENDAR
VERSION:2.0
PRODID:spatie/icalendar-generator
NAME:How to Double Your Firm's Revenue Through CFO and Advisory
X-WR-CALNAME:How to Double Your Firm's Revenue Through CFO and Advisory
BEGIN:VTIMEZONE
TZID:America/Chicago
BEGIN:DAYLIGHT
DTSTART:20250309T010000
TZOFFSETFROM:-0600
TZOFFSETTO:-0500
END:DAYLIGHT
BEGIN:STANDARD
DTSTART:20251102T010000
TZOFFSETFROM:-0500
TZOFFSETTO:-0600
END:STANDARD
BEGIN:DAYLIGHT
DTSTART:20260308T010000
TZOFFSETFROM:-0600
TZOFFSETTO:-0500
END:DAYLIGHT
END:VTIMEZONE
BEGIN:VTIMEZONE
TZID:UTC
BEGIN:STANDARD
DTSTART:20250727T235150
TZOFFSETFROM:+0000
TZOFFSETTO:+0000
END:STANDARD
END:VTIMEZONE
BEGIN:VEVENT
UID:69eab0966ce64
DTSTAMP:20260423T235150Z
SUMMARY:How to Double Your Firm's Revenue Through CFO and Advisory
URL:https://alabama.cpa/catalog/events/7195680-how-to-double-your-firms-rev
 enue-through-cfo-and-advisory-2025-11-10
DTSTART;TZID=America/Chicago:20251011T120000
DTEND;TZID=America/Chicago:20251011T130000
END:VEVENT
END:VCALENDAR