BEGIN:VCALENDAR
VERSION:2.0
PRODID:spatie/icalendar-generator
NAME:Common Financial Statement Disclosures
X-WR-CALNAME:Common Financial Statement Disclosures
BEGIN:VTIMEZONE
TZID:America/Chicago
BEGIN:DAYLIGHT
DTSTART:20250309T010000
TZOFFSETFROM:-0600
TZOFFSETTO:-0500
END:DAYLIGHT
BEGIN:STANDARD
DTSTART:20251102T010000
TZOFFSETFROM:-0500
TZOFFSETTO:-0600
END:STANDARD
END:VTIMEZONE
BEGIN:VTIMEZONE
TZID:UTC
BEGIN:STANDARD
DTSTART:20250725T081246
TZOFFSETFROM:+0000
TZOFFSETTO:+0000
END:STANDARD
END:VTIMEZONE
BEGIN:VEVENT
UID:69e7317eeb389
DTSTAMP:20260421T081246Z
SUMMARY:Common Financial Statement Disclosures
URL:https://alabama.cpa/catalog/events/7195853-common-financial-statement-d
 isclosures-2025-20-08
DTSTART;TZID=America/Chicago:20250820T130000
DTEND;TZID=America/Chicago:20250820T150000
END:VEVENT
END:VCALENDAR