BEGIN:VCALENDAR
VERSION:2.0
PRODID:spatie/icalendar-generator
NAME:2025 Alabama Federal and State Tax Institute
X-WR-CALNAME:2025 Alabama Federal and State Tax Institute
BEGIN:VTIMEZONE
TZID:America/Chicago
BEGIN:DAYLIGHT
DTSTART:20250309T010000
TZOFFSETFROM:-0600
TZOFFSETTO:-0500
END:DAYLIGHT
BEGIN:STANDARD
DTSTART:20251102T010000
TZOFFSETFROM:-0500
TZOFFSETTO:-0600
END:STANDARD
BEGIN:DAYLIGHT
DTSTART:20260308T010000
TZOFFSETFROM:-0600
TZOFFSETTO:-0500
END:DAYLIGHT
END:VTIMEZONE
BEGIN:VTIMEZONE
TZID:UTC
BEGIN:STANDARD
DTSTART:20250724T061331
TZOFFSETFROM:+0000
TZOFFSETTO:+0000
END:STANDARD
END:VTIMEZONE
BEGIN:VEVENT
UID:69e5c40be74d2
DTSTAMP:20260420T061331Z
SUMMARY:Welcome & Trust and Estate Scouting Report: Uncovering Tax and Fidu
 ciary Trends to Better Plan and Prepare
LOCATION:3590 Grandview Pkwy\, Birmingham\, Jefferson County\, Alabama 3524
 3-1946
URL:https://alabama.cpa/catalog/events/7508472-2025-alabama-federal-and-sta
 te-tax-institute-2025-12-11
DTSTART;TZID=America/Chicago:20251112T080000
DTEND;TZID=America/Chicago:20251112T094500
END:VEVENT
BEGIN:VEVENT
UID:69e5c40be8f03
DTSTAMP:20260420T061331Z
SUMMARY:Federal Tax Update
LOCATION:3590 Grandview Pkwy\, Birmingham\, Jefferson County\, Alabama 3524
 3-1946
URL:https://alabama.cpa/catalog/events/7508472-2025-alabama-federal-and-sta
 te-tax-institute-2025-12-11
DTSTART;TZID=America/Chicago:20251112T100000
DTEND;TZID=America/Chicago:20251112T113000
END:VEVENT
BEGIN:VEVENT
UID:69e5c40bea388
DTSTAMP:20260420T061331Z
SUMMARY:Lunch Break: Scholarship Awards Luncheon
LOCATION:3590 Grandview Pkwy\, Birmingham\, Jefferson County\, Alabama 3524
 3-1946
URL:https://alabama.cpa/catalog/events/7508472-2025-alabama-federal-and-sta
 te-tax-institute-2025-12-11
DTSTART;TZID=America/Chicago:20251112T113000
DTEND;TZID=America/Chicago:20251112T123000
END:VEVENT
BEGIN:VEVENT
UID:69e5c40beb746
DTSTAMP:20260420T061331Z
SUMMARY:Break
LOCATION:3590 Grandview Pkwy\, Birmingham\, Jefferson County\, Alabama 3524
 3-1946
URL:https://alabama.cpa/catalog/events/7508472-2025-alabama-federal-and-sta
 te-tax-institute-2025-12-11
DTSTART;TZID=America/Chicago:20251112T094500
DTEND;TZID=America/Chicago:20251112T100000
END:VEVENT
BEGIN:VEVENT
UID:69e5c40becac2
DTSTAMP:20260420T061331Z
SUMMARY:IRS Targeting Wealthy Individuals\, Their Family Offices\, and Esta
 te Planning
LOCATION:3590 Grandview Pkwy\, Birmingham\, Jefferson County\, Alabama 3524
 3-1946
URL:https://alabama.cpa/catalog/events/7508472-2025-alabama-federal-and-sta
 te-tax-institute-2025-12-11
DTSTART;TZID=America/Chicago:20251112T123000
DTEND;TZID=America/Chicago:20251112T140000
END:VEVENT
BEGIN:VEVENT
UID:69e5c40bede64
DTSTAMP:20260420T061331Z
SUMMARY:Break
LOCATION:3590 Grandview Pkwy\, Birmingham\, Jefferson County\, Alabama 3524
 3-1946
URL:https://alabama.cpa/catalog/events/7508472-2025-alabama-federal-and-sta
 te-tax-institute-2025-12-11
DTSTART;TZID=America/Chicago:20251112T140000
DTEND;TZID=America/Chicago:20251112T141500
END:VEVENT
BEGIN:VEVENT
UID:69e5c40bef294
DTSTAMP:20260420T061331Z
SUMMARY:Non-Judicial Settlement Agreements: What Have We Learned?
LOCATION:3590 Grandview Pkwy\, Birmingham\, Jefferson County\, Alabama 3524
 3-1946
URL:https://alabama.cpa/catalog/events/7508472-2025-alabama-federal-and-sta
 te-tax-institute-2025-12-11
DTSTART;TZID=America/Chicago:20251112T141500
DTEND;TZID=America/Chicago:20251112T151500
END:VEVENT
BEGIN:VEVENT
UID:69e5c40bf0694
DTSTAMP:20260420T061331Z
SUMMARY:Break
LOCATION:3590 Grandview Pkwy\, Birmingham\, Jefferson County\, Alabama 3524
 3-1946
URL:https://alabama.cpa/catalog/events/7508472-2025-alabama-federal-and-sta
 te-tax-institute-2025-12-11
DTSTART;TZID=America/Chicago:20251112T151500
DTEND;TZID=America/Chicago:20251112T153000
END:VEVENT
BEGIN:VEVENT
UID:69e5c40bf1ab5
DTSTAMP:20260420T061331Z
SUMMARY:Traditional and Nontraditional Land Management
LOCATION:3590 Grandview Pkwy\, Birmingham\, Jefferson County\, Alabama 3524
 3-1946
URL:https://alabama.cpa/catalog/events/7508472-2025-alabama-federal-and-sta
 te-tax-institute-2025-12-11
DTSTART;TZID=America/Chicago:20251112T153000
DTEND;TZID=America/Chicago:20251112T170000
END:VEVENT
BEGIN:VEVENT
UID:69e5c40bf2f29
DTSTAMP:20260420T061331Z
SUMMARY:Current Events Relating to the Taxation of Partnerships and Real Es
 tate
LOCATION:3590 Grandview Pkwy\, Birmingham\, Jefferson County\, Alabama 3524
 3-1946
URL:https://alabama.cpa/catalog/events/7508472-2025-alabama-federal-and-sta
 te-tax-institute-2025-12-11
DTSTART;TZID=America/Chicago:20251113T080000
DTEND;TZID=America/Chicago:20251113T090000
END:VEVENT
BEGIN:VEVENT
UID:69e5c40c00060
DTSTAMP:20260420T061332Z
SUMMARY:What Happens When Partners Die?
LOCATION:3590 Grandview Pkwy\, Birmingham\, Jefferson County\, Alabama 3524
 3-1946
URL:https://alabama.cpa/catalog/events/7508472-2025-alabama-federal-and-sta
 te-tax-institute-2025-12-11
DTSTART;TZID=America/Chicago:20251113T090000
DTEND;TZID=America/Chicago:20251113T095000
END:VEVENT
BEGIN:VEVENT
UID:69e5c40c0140f
DTSTAMP:20260420T061332Z
SUMMARY:Break
LOCATION:3590 Grandview Pkwy\, Birmingham\, Jefferson County\, Alabama 3524
 3-1946
URL:https://alabama.cpa/catalog/events/7508472-2025-alabama-federal-and-sta
 te-tax-institute-2025-12-11
DTSTART;TZID=America/Chicago:20251113T095000
DTEND;TZID=America/Chicago:20251113T100500
END:VEVENT
BEGIN:VEVENT
UID:69e5c40c027de
DTSTAMP:20260420T061332Z
SUMMARY:Tax Gotchas in LLC\, Partnership & Stockholders Agreements: Busines
 s Provisions Masquerading as Tax Provisions
LOCATION:3590 Grandview Pkwy\, Birmingham\, Jefferson County\, Alabama 3524
 3-1946
URL:https://alabama.cpa/catalog/events/7508472-2025-alabama-federal-and-sta
 te-tax-institute-2025-12-11
DTSTART;TZID=America/Chicago:20251113T100500
DTEND;TZID=America/Chicago:20251113T113500
END:VEVENT
BEGIN:VEVENT
UID:69e5c40c03c19
DTSTAMP:20260420T061332Z
SUMMARY:Lunch Break
LOCATION:3590 Grandview Pkwy\, Birmingham\, Jefferson County\, Alabama 3524
 3-1946
URL:https://alabama.cpa/catalog/events/7508472-2025-alabama-federal-and-sta
 te-tax-institute-2025-12-11
DTSTART;TZID=America/Chicago:20251113T113500
DTEND;TZID=America/Chicago:20251113T121500
END:VEVENT
BEGIN:VEVENT
UID:69e5c40c04f69
DTSTAMP:20260420T061332Z
SUMMARY:Recent Alabama Tax Developments & A Survey of OBBBA's Major Effect 
 on Alabama Business Taxes + Unofficial Predictions for Next Session
LOCATION:3590 Grandview Pkwy\, Birmingham\, Jefferson County\, Alabama 3524
 3-1946
URL:https://alabama.cpa/catalog/events/7508472-2025-alabama-federal-and-sta
 te-tax-institute-2025-12-11
DTSTART;TZID=America/Chicago:20251113T121500
DTEND;TZID=America/Chicago:20251113T134500
END:VEVENT
BEGIN:VEVENT
UID:69e5c40c0631c
DTSTAMP:20260420T061332Z
SUMMARY:Navigating the Skies: Mastering Aircraft Tax Strategies for High-Fl
 ying Clients
LOCATION:3590 Grandview Pkwy\, Birmingham\, Jefferson County\, Alabama 3524
 3-1946
URL:https://alabama.cpa/catalog/events/7508472-2025-alabama-federal-and-sta
 te-tax-institute-2025-12-11
DTSTART;TZID=America/Chicago:20251113T134500
DTEND;TZID=America/Chicago:20251113T144500
END:VEVENT
BEGIN:VEVENT
UID:69e5c40c076d8
DTSTAMP:20260420T061332Z
SUMMARY:Break
LOCATION:3590 Grandview Pkwy\, Birmingham\, Jefferson County\, Alabama 3524
 3-1946
URL:https://alabama.cpa/catalog/events/7508472-2025-alabama-federal-and-sta
 te-tax-institute-2025-12-11
DTSTART;TZID=America/Chicago:20251113T144500
DTEND;TZID=America/Chicago:20251113T150000
END:VEVENT
BEGIN:VEVENT
UID:69e5c40c08b0b
DTSTAMP:20260420T061332Z
SUMMARY:A Fed Perspective on Economic Conditions and Outlook
LOCATION:3590 Grandview Pkwy\, Birmingham\, Jefferson County\, Alabama 3524
 3-1946
URL:https://alabama.cpa/catalog/events/7508472-2025-alabama-federal-and-sta
 te-tax-institute-2025-12-11
DTSTART;TZID=America/Chicago:20251113T150000
DTEND;TZID=America/Chicago:20251113T160000
END:VEVENT
BEGIN:VEVENT
UID:69e5c40c09e79
DTSTAMP:20260420T061332Z
SUMMARY:SALT Litigation from Coast to Coast. What Do I Need to Know to Best
  Represent my Clients?
LOCATION:3590 Grandview Pkwy\, Birmingham\, Jefferson County\, Alabama 3524
 3-1946
URL:https://alabama.cpa/catalog/events/7508472-2025-alabama-federal-and-sta
 te-tax-institute-2025-12-11
DTSTART;TZID=America/Chicago:20251113T160000
DTEND;TZID=America/Chicago:20251113T170000
END:VEVENT
BEGIN:VEVENT
UID:69e5c40c0b228
DTSTAMP:20260420T061332Z
SUMMARY:An Evolutionary Look at S Corporations
LOCATION:3590 Grandview Pkwy\, Birmingham\, Jefferson County\, Alabama 3524
 3-1946
URL:https://alabama.cpa/catalog/events/7508472-2025-alabama-federal-and-sta
 te-tax-institute-2025-12-11
DTSTART;TZID=America/Chicago:20251114T083000
DTEND;TZID=America/Chicago:20251114T093000
END:VEVENT
BEGIN:VEVENT
UID:69e5c40c0c7fc
DTSTAMP:20260420T061332Z
SUMMARY:US Reporting and Taxation of Foreign Business Entities
LOCATION:3590 Grandview Pkwy\, Birmingham\, Jefferson County\, Alabama 3524
 3-1946
URL:https://alabama.cpa/catalog/events/7508472-2025-alabama-federal-and-sta
 te-tax-institute-2025-12-11
DTSTART;TZID=America/Chicago:20251114T093000
DTEND;TZID=America/Chicago:20251114T103000
END:VEVENT
BEGIN:VEVENT
UID:69e5c40c0dbff
DTSTAMP:20260420T061332Z
SUMMARY:Audit in the Dark: Navigating BBA Partnership Audits for Individual
 s
LOCATION:3590 Grandview Pkwy\, Birmingham\, Jefferson County\, Alabama 3524
 3-1946
URL:https://alabama.cpa/catalog/events/7508472-2025-alabama-federal-and-sta
 te-tax-institute-2025-12-11
DTSTART;TZID=America/Chicago:20251114T104000
DTEND;TZID=America/Chicago:20251114T120000
END:VEVENT
BEGIN:VEVENT
UID:69e5c40c0f7dd
DTSTAMP:20260420T061332Z
SUMMARY:Break
LOCATION:3590 Grandview Pkwy\, Birmingham\, Jefferson County\, Alabama 3524
 3-1946
URL:https://alabama.cpa/catalog/events/7508472-2025-alabama-federal-and-sta
 te-tax-institute-2025-12-11
DTSTART;TZID=America/Chicago:20251114T103000
DTEND;TZID=America/Chicago:20251114T104000
END:VEVENT
END:VCALENDAR