BEGIN:VCALENDAR
VERSION:2.0
PRODID:spatie/icalendar-generator
NAME:Triple Your Memory\, Prevent Dementia and Halve Your Stress - Part 1
X-WR-CALNAME:Triple Your Memory\, Prevent Dementia and Halve Your Stress - 
 Part 1
BEGIN:VTIMEZONE
TZID:America/Chicago
BEGIN:DAYLIGHT
DTSTART:20250309T010000
TZOFFSETFROM:-0600
TZOFFSETTO:-0500
END:DAYLIGHT
BEGIN:STANDARD
DTSTART:20251102T010000
TZOFFSETFROM:-0500
TZOFFSETTO:-0600
END:STANDARD
BEGIN:DAYLIGHT
DTSTART:20260308T010000
TZOFFSETFROM:-0600
TZOFFSETTO:-0500
END:DAYLIGHT
END:VTIMEZONE
BEGIN:VTIMEZONE
TZID:UTC
BEGIN:STANDARD
DTSTART:20250725T081747
TZOFFSETFROM:+0000
TZOFFSETTO:+0000
END:STANDARD
END:VTIMEZONE
BEGIN:VEVENT
UID:69e732ab28a75
DTSTAMP:20260421T081747Z
SUMMARY:Triple Your Memory\, Prevent Dementia and Halve Your Stress - Part 
 1
URL:https://alabama.cpa/catalog/events/7531358-triple-your-memory-prevent-d
 ementia-and-halve-your-stress-part-1-2025-25-09
DTSTART;TZID=America/Chicago:20250925T090000
DTEND;TZID=America/Chicago:20250925T123600
END:VEVENT
END:VCALENDAR