BEGIN:VCALENDAR
VERSION:2.0
PRODID:spatie/icalendar-generator
NAME:2025 Alabama Federal and State Tax Institute: Day 1
X-WR-CALNAME:2025 Alabama Federal and State Tax Institute: Day 1
BEGIN:VTIMEZONE
TZID:America/Chicago
BEGIN:DAYLIGHT
DTSTART:20250309T010000
TZOFFSETFROM:-0600
TZOFFSETTO:-0500
END:DAYLIGHT
BEGIN:STANDARD
DTSTART:20251102T010000
TZOFFSETFROM:-0500
TZOFFSETTO:-0600
END:STANDARD
BEGIN:DAYLIGHT
DTSTART:20260308T010000
TZOFFSETFROM:-0600
TZOFFSETTO:-0500
END:DAYLIGHT
END:VTIMEZONE
BEGIN:VTIMEZONE
TZID:UTC
BEGIN:STANDARD
DTSTART:20250724T073738
TZOFFSETFROM:+0000
TZOFFSETTO:+0000
END:STANDARD
END:VTIMEZONE
BEGIN:VEVENT
UID:69e5d7c2e45fc
DTSTAMP:20260420T073738Z
SUMMARY:Welcome & Trust and Estate Scouting Report: Uncovering Tax and Fidu
 ciary Trends to Better Plan and Prepare
URL:https://alabama.cpa/catalog/events/7532684-2025-alabama-federal-and-sta
 te-tax-institute-day-1-2025-12-11
DTSTART;TZID=America/Chicago:20251112T080000
DTEND;TZID=America/Chicago:20251112T094500
END:VEVENT
BEGIN:VEVENT
UID:69e5d7c2e522c
DTSTAMP:20260420T073738Z
SUMMARY:Break
URL:https://alabama.cpa/catalog/events/7532684-2025-alabama-federal-and-sta
 te-tax-institute-day-1-2025-12-11
DTSTART;TZID=America/Chicago:20251112T094500
DTEND;TZID=America/Chicago:20251112T100000
END:VEVENT
BEGIN:VEVENT
UID:69e5d7c2e59c3
DTSTAMP:20260420T073738Z
SUMMARY:Federal Tax Update
URL:https://alabama.cpa/catalog/events/7532684-2025-alabama-federal-and-sta
 te-tax-institute-day-1-2025-12-11
DTSTART;TZID=America/Chicago:20251112T100000
DTEND;TZID=America/Chicago:20251112T113000
END:VEVENT
BEGIN:VEVENT
UID:69e5d7c2e608e
DTSTAMP:20260420T073738Z
SUMMARY:Scholarship Awards Luncheon
URL:https://alabama.cpa/catalog/events/7532684-2025-alabama-federal-and-sta
 te-tax-institute-day-1-2025-12-11
DTSTART;TZID=America/Chicago:20251112T113000
DTEND;TZID=America/Chicago:20251112T123000
END:VEVENT
BEGIN:VEVENT
UID:69e5d7c2e6789
DTSTAMP:20260420T073738Z
SUMMARY:IRS Targeting Wealthy Individuals\, Their Family Offices\, and Esta
 te Planning
URL:https://alabama.cpa/catalog/events/7532684-2025-alabama-federal-and-sta
 te-tax-institute-day-1-2025-12-11
DTSTART;TZID=America/Chicago:20251112T123000
DTEND;TZID=America/Chicago:20251112T140000
END:VEVENT
BEGIN:VEVENT
UID:69e5d7c2e6e49
DTSTAMP:20260420T073738Z
SUMMARY:Break
URL:https://alabama.cpa/catalog/events/7532684-2025-alabama-federal-and-sta
 te-tax-institute-day-1-2025-12-11
DTSTART;TZID=America/Chicago:20251112T140000
DTEND;TZID=America/Chicago:20251112T140000
END:VEVENT
BEGIN:VEVENT
UID:69e5d7c2e74ef
DTSTAMP:20260420T073738Z
SUMMARY:Non-Judicial Settlement Agreements: What Have we Learned?
URL:https://alabama.cpa/catalog/events/7532684-2025-alabama-federal-and-sta
 te-tax-institute-day-1-2025-12-11
DTSTART;TZID=America/Chicago:20251112T141500
DTEND;TZID=America/Chicago:20251112T151500
END:VEVENT
BEGIN:VEVENT
UID:69e5d7c2e7b73
DTSTAMP:20260420T073738Z
SUMMARY:Break
URL:https://alabama.cpa/catalog/events/7532684-2025-alabama-federal-and-sta
 te-tax-institute-day-1-2025-12-11
DTSTART;TZID=America/Chicago:20251112T151500
DTEND;TZID=America/Chicago:20251112T153000
END:VEVENT
BEGIN:VEVENT
UID:69e5d7c2e81e3
DTSTAMP:20260420T073738Z
SUMMARY:Traditional and Nontraditional Land Management
URL:https://alabama.cpa/catalog/events/7532684-2025-alabama-federal-and-sta
 te-tax-institute-day-1-2025-12-11
DTSTART;TZID=America/Chicago:20251112T153000
DTEND;TZID=America/Chicago:20251112T170000
END:VEVENT
END:VCALENDAR