BEGIN:VCALENDAR
VERSION:2.0
PRODID:spatie/icalendar-generator
NAME:2025 Alabama Federal and State Tax Institute: Day 3
X-WR-CALNAME:2025 Alabama Federal and State Tax Institute: Day 3
BEGIN:VTIMEZONE
TZID:America/Chicago
BEGIN:DAYLIGHT
DTSTART:20250309T010000
TZOFFSETFROM:-0600
TZOFFSETTO:-0500
END:DAYLIGHT
BEGIN:STANDARD
DTSTART:20251102T010000
TZOFFSETFROM:-0500
TZOFFSETTO:-0600
END:STANDARD
BEGIN:DAYLIGHT
DTSTART:20260308T010000
TZOFFSETFROM:-0600
TZOFFSETTO:-0500
END:DAYLIGHT
END:VTIMEZONE
BEGIN:VTIMEZONE
TZID:UTC
BEGIN:STANDARD
DTSTART:20250724T073936
TZOFFSETFROM:+0000
TZOFFSETTO:+0000
END:STANDARD
END:VTIMEZONE
BEGIN:VEVENT
UID:69e5d8385a768
DTSTAMP:20260420T073936Z
SUMMARY:An Evolutionary Look at S Corporations
URL:https://alabama.cpa/catalog/events/7533021-2025-alabama-federal-and-sta
 te-tax-institute-day-3-2025-14-11
DTSTART;TZID=America/Chicago:20251114T083000
DTEND;TZID=America/Chicago:20251114T093000
END:VEVENT
BEGIN:VEVENT
UID:69e5d8385b2d1
DTSTAMP:20260420T073936Z
SUMMARY:US Reporting and Taxation of Foreign Business Entities
URL:https://alabama.cpa/catalog/events/7533021-2025-alabama-federal-and-sta
 te-tax-institute-day-3-2025-14-11
DTSTART;TZID=America/Chicago:20251114T093000
DTEND;TZID=America/Chicago:20251114T103000
END:VEVENT
BEGIN:VEVENT
UID:69e5d8385ba7b
DTSTAMP:20260420T073936Z
SUMMARY:Break
URL:https://alabama.cpa/catalog/events/7533021-2025-alabama-federal-and-sta
 te-tax-institute-day-3-2025-14-11
DTSTART;TZID=America/Chicago:20251114T103000
DTEND;TZID=America/Chicago:20251114T104000
END:VEVENT
BEGIN:VEVENT
UID:69e5d8385c14f
DTSTAMP:20260420T073936Z
SUMMARY:Audit in the Dark: Navigating BBA Partnership Audits for Individual
 s
URL:https://alabama.cpa/catalog/events/7533021-2025-alabama-federal-and-sta
 te-tax-institute-day-3-2025-14-11
DTSTART;TZID=America/Chicago:20251114T104000
DTEND;TZID=America/Chicago:20251114T120000
END:VEVENT
END:VCALENDAR