BEGIN:VCALENDAR
VERSION:2.0
PRODID:spatie/icalendar-generator
NAME:The OBBB Roadmap:  Identifying Planning Opportunities and Areas of Un
 certainty in the Newly Enacted Legislation
X-WR-CALNAME:The OBBB Roadmap:  Identifying Planning Opportunities and Are
 as of Uncertainty in the Newly Enacted Legislation
BEGIN:VTIMEZONE
TZID:America/Chicago
BEGIN:DAYLIGHT
DTSTART:20250309T010000
TZOFFSETFROM:-0600
TZOFFSETTO:-0500
END:DAYLIGHT
BEGIN:STANDARD
DTSTART:20251102T010000
TZOFFSETFROM:-0500
TZOFFSETTO:-0600
END:STANDARD
END:VTIMEZONE
BEGIN:VTIMEZONE
TZID:UTC
BEGIN:STANDARD
DTSTART:20250725T081535
TZOFFSETFROM:+0000
TZOFFSETTO:+0000
END:STANDARD
END:VTIMEZONE
BEGIN:VEVENT
UID:69e7322728f53
DTSTAMP:20260421T081535Z
SUMMARY:The OBBB Roadmap:  Identifying Planning Opportunities and Areas of
  Uncertainty in the Newly Enacted Legislation
URL:https://alabama.cpa/catalog/events/7545355-the-obbb-roadmap-identifying
 -planning-opportunities-and-areas-of-uncertainty-in-the-newly-enacted-legi
 slation-2025-05-08
DTSTART;TZID=America/Chicago:20250805T120000
DTEND;TZID=America/Chicago:20250805T125000
END:VEVENT
END:VCALENDAR