BEGIN:VCALENDAR
VERSION:2.0
PRODID:spatie/icalendar-generator
NAME:Surgent's Taking Advantage of Installment Sales
X-WR-CALNAME:Surgent's Taking Advantage of Installment Sales
BEGIN:VTIMEZONE
TZID:America/Chicago
BEGIN:STANDARD
DTSTART:20251102T010000
TZOFFSETFROM:-0500
TZOFFSETTO:-0600
END:STANDARD
BEGIN:DAYLIGHT
DTSTART:20260308T010000
TZOFFSETFROM:-0600
TZOFFSETTO:-0500
END:DAYLIGHT
END:VTIMEZONE
BEGIN:VTIMEZONE
TZID:UTC
BEGIN:STANDARD
DTSTART:20250725T081912
TZOFFSETFROM:+0000
TZOFFSETTO:+0000
END:STANDARD
END:VTIMEZONE
BEGIN:VEVENT
UID:69e733003d6e4
DTSTAMP:20260421T081912Z
SUMMARY:Surgent's Taking Advantage of Installment Sales
URL:https://alabama.cpa/catalog/events/7627831-surgents-taking-advantage-of
 -installment-sales-2025-05-12
DTSTART;TZID=America/Chicago:20251205T090000
DTEND;TZID=America/Chicago:20251205T110000
END:VEVENT
END:VCALENDAR