BEGIN:VCALENDAR
VERSION:2.0
PRODID:spatie/icalendar-generator
NAME:2026 Annual Meeting
X-WR-CALNAME:2026 Annual Meeting
BEGIN:VTIMEZONE
TZID:America/Chicago
BEGIN:STANDARD
DTSTART:20251102T010000
TZOFFSETFROM:-0500
TZOFFSETTO:-0600
END:STANDARD
BEGIN:DAYLIGHT
DTSTART:20260308T010000
TZOFFSETFROM:-0600
TZOFFSETTO:-0500
END:DAYLIGHT
BEGIN:STANDARD
DTSTART:20261101T010000
TZOFFSETFROM:-0500
TZOFFSETTO:-0600
END:STANDARD
END:VTIMEZONE
BEGIN:VTIMEZONE
TZID:UTC
BEGIN:STANDARD
DTSTART:20250726T123117
TZOFFSETFROM:+0000
TZOFFSETTO:+0000
END:STANDARD
END:VTIMEZONE
BEGIN:VEVENT
UID:69e8bf95001ef
DTSTAMP:20260422T123117Z
SUMMARY:Opening Remarks
LOCATION:1 Robert S Smith Dr\, Birmingham\, Jefferson County\, Alabama 3520
 9-1263
URL:https://alabama.cpa/catalog/events/7676399-2026-annual-meeting-2026-16-
 06
DTSTART;TZID=America/Chicago:20260616T080000
DTEND;TZID=America/Chicago:20260616T081000
GEO:33.48883;-86.800959
X-APPLE-STRUCTURED-LOCATION;VALUE=URI;X-ADDRESS=1 Robert S Smith Dr\, Birmi
 ngham\, Jefferson County\, Alabama 35209-1263;X-APPLE-RADIUS=72;X-TITLE=Th
 e Club:geo:33.48883,-86.800959
END:VEVENT
BEGIN:VEVENT
UID:69e8bf9501b08
DTSTAMP:20260422T123117Z
SUMMARY:Profession Opportunities Update- Transformation and Growth
LOCATION:1 Robert S Smith Dr\, Birmingham\, Jefferson County\, Alabama 3520
 9-1263
URL:https://alabama.cpa/catalog/events/7676399-2026-annual-meeting-2026-16-
 06
DTSTART;TZID=America/Chicago:20260616T081000
DTEND;TZID=America/Chicago:20260616T090000
GEO:33.48883;-86.800959
X-APPLE-STRUCTURED-LOCATION;VALUE=URI;X-ADDRESS=1 Robert S Smith Dr\, Birmi
 ngham\, Jefferson County\, Alabama 35209-1263;X-APPLE-RADIUS=72;X-TITLE=Th
 e Club:geo:33.48883,-86.800959
END:VEVENT
BEGIN:VEVENT
UID:69e8bf9502ddf
DTSTAMP:20260422T123117Z
SUMMARY:Alabama Accounting: Professional Issues & Emerging Opportunities
LOCATION:1 Robert S Smith Dr\, Birmingham\, Jefferson County\, Alabama 3520
 9-1263
URL:https://alabama.cpa/catalog/events/7676399-2026-annual-meeting-2026-16-
 06
DTSTART;TZID=America/Chicago:20260616T090000
DTEND;TZID=America/Chicago:20260616T095000
GEO:33.48883;-86.800959
X-APPLE-STRUCTURED-LOCATION;VALUE=URI;X-ADDRESS=1 Robert S Smith Dr\, Birmi
 ngham\, Jefferson County\, Alabama 35209-1263;X-APPLE-RADIUS=72;X-TITLE=Th
 e Club:geo:33.48883,-86.800959
END:VEVENT
BEGIN:VEVENT
UID:69e8bf950404a
DTSTAMP:20260422T123117Z
SUMMARY:Break
LOCATION:1 Robert S Smith Dr\, Birmingham\, Jefferson County\, Alabama 3520
 9-1263
URL:https://alabama.cpa/catalog/events/7676399-2026-annual-meeting-2026-16-
 06
DTSTART;TZID=America/Chicago:20260616T095000
DTEND;TZID=America/Chicago:20260616T100500
GEO:33.48883;-86.800959
X-APPLE-STRUCTURED-LOCATION;VALUE=URI;X-ADDRESS=1 Robert S Smith Dr\, Birmi
 ngham\, Jefferson County\, Alabama 35209-1263;X-APPLE-RADIUS=72;X-TITLE=Th
 e Club:geo:33.48883,-86.800959
END:VEVENT
BEGIN:VEVENT
UID:69e8bf9505467
DTSTAMP:20260422T123117Z
SUMMARY:Putting AI to Work
LOCATION:1 Robert S Smith Dr\, Birmingham\, Jefferson County\, Alabama 3520
 9-1263
URL:https://alabama.cpa/catalog/events/7676399-2026-annual-meeting-2026-16-
 06
DTSTART;TZID=America/Chicago:20260616T100500
DTEND;TZID=America/Chicago:20260616T103500
GEO:33.48883;-86.800959
X-APPLE-STRUCTURED-LOCATION;VALUE=URI;X-ADDRESS=1 Robert S Smith Dr\, Birmi
 ngham\, Jefferson County\, Alabama 35209-1263;X-APPLE-RADIUS=72;X-TITLE=Th
 e Club:geo:33.48883,-86.800959
END:VEVENT
BEGIN:VEVENT
UID:69e8bf95066e8
DTSTAMP:20260422T123117Z
SUMMARY:Human Capital: The Strongest Asset on the Balance Sheet
LOCATION:1 Robert S Smith Dr\, Birmingham\, Jefferson County\, Alabama 3520
 9-1263
URL:https://alabama.cpa/catalog/events/7676399-2026-annual-meeting-2026-16-
 06
DTSTART;TZID=America/Chicago:20260616T103500
DTEND;TZID=America/Chicago:20260616T112500
GEO:33.48883;-86.800959
X-APPLE-STRUCTURED-LOCATION;VALUE=URI;X-ADDRESS=1 Robert S Smith Dr\, Birmi
 ngham\, Jefferson County\, Alabama 35209-1263;X-APPLE-RADIUS=72;X-TITLE=Th
 e Club:geo:33.48883,-86.800959
END:VEVENT
BEGIN:VEVENT
UID:69e8bf9507a72
DTSTAMP:20260422T123117Z
SUMMARY:Lunch\, Recognitions\, and Keynote
LOCATION:1 Robert S Smith Dr\, Birmingham\, Jefferson County\, Alabama 3520
 9-1263
URL:https://alabama.cpa/catalog/events/7676399-2026-annual-meeting-2026-16-
 06
DTSTART;TZID=America/Chicago:20260616T112500
DTEND;TZID=America/Chicago:20260616T124000
GEO:33.48883;-86.800959
X-APPLE-STRUCTURED-LOCATION;VALUE=URI;X-ADDRESS=1 Robert S Smith Dr\, Birmi
 ngham\, Jefferson County\, Alabama 35209-1263;X-APPLE-RADIUS=72;X-TITLE=Th
 e Club:geo:33.48883,-86.800959
END:VEVENT
BEGIN:VEVENT
UID:69e8bf9508d4e
DTSTAMP:20260422T123117Z
SUMMARY:Federal Advocacy and Congressional Review
LOCATION:1 Robert S Smith Dr\, Birmingham\, Jefferson County\, Alabama 3520
 9-1263
URL:https://alabama.cpa/catalog/events/7676399-2026-annual-meeting-2026-16-
 06
DTSTART;TZID=America/Chicago:20260616T124000
DTEND;TZID=America/Chicago:20260616T132000
GEO:33.48883;-86.800959
X-APPLE-STRUCTURED-LOCATION;VALUE=URI;X-ADDRESS=1 Robert S Smith Dr\, Birmi
 ngham\, Jefferson County\, Alabama 35209-1263;X-APPLE-RADIUS=72;X-TITLE=Th
 e Club:geo:33.48883,-86.800959
END:VEVENT
BEGIN:VEVENT
UID:69e8bf950a076
DTSTAMP:20260422T123117Z
SUMMARY:What's Next for the Economy\, State Budgets\, and Taxes?
LOCATION:1 Robert S Smith Dr\, Birmingham\, Jefferson County\, Alabama 3520
 9-1263
URL:https://alabama.cpa/catalog/events/7676399-2026-annual-meeting-2026-16-
 06
DTSTART;TZID=America/Chicago:20260616T132000
DTEND;TZID=America/Chicago:20260616T141000
GEO:33.48883;-86.800959
X-APPLE-STRUCTURED-LOCATION;VALUE=URI;X-ADDRESS=1 Robert S Smith Dr\, Birmi
 ngham\, Jefferson County\, Alabama 35209-1263;X-APPLE-RADIUS=72;X-TITLE=Th
 e Club:geo:33.48883,-86.800959
END:VEVENT
BEGIN:VEVENT
UID:69e8bf950b398
DTSTAMP:20260422T123117Z
SUMMARY:Break
LOCATION:1 Robert S Smith Dr\, Birmingham\, Jefferson County\, Alabama 3520
 9-1263
URL:https://alabama.cpa/catalog/events/7676399-2026-annual-meeting-2026-16-
 06
DTSTART;TZID=America/Chicago:20260616T141000
DTEND;TZID=America/Chicago:20260616T142000
GEO:33.48883;-86.800959
X-APPLE-STRUCTURED-LOCATION;VALUE=URI;X-ADDRESS=1 Robert S Smith Dr\, Birmi
 ngham\, Jefferson County\, Alabama 35209-1263;X-APPLE-RADIUS=72;X-TITLE=Th
 e Club:geo:33.48883,-86.800959
END:VEVENT
BEGIN:VEVENT
UID:69e8bf950c6ea
DTSTAMP:20260422T123117Z
SUMMARY:ASB Update
LOCATION:1 Robert S Smith Dr\, Birmingham\, Jefferson County\, Alabama 3520
 9-1263
URL:https://alabama.cpa/catalog/events/7676399-2026-annual-meeting-2026-16-
 06
DTSTART;TZID=America/Chicago:20260616T142000
DTEND;TZID=America/Chicago:20260616T151000
GEO:33.48883;-86.800959
X-APPLE-STRUCTURED-LOCATION;VALUE=URI;X-ADDRESS=1 Robert S Smith Dr\, Birmi
 ngham\, Jefferson County\, Alabama 35209-1263;X-APPLE-RADIUS=72;X-TITLE=Th
 e Club:geo:33.48883,-86.800959
END:VEVENT
BEGIN:VEVENT
UID:69e8bf950d98e
DTSTAMP:20260422T123117Z
SUMMARY:Closing Comments
LOCATION:1 Robert S Smith Dr\, Birmingham\, Jefferson County\, Alabama 3520
 9-1263
URL:https://alabama.cpa/catalog/events/7676399-2026-annual-meeting-2026-16-
 06
DTSTART;TZID=America/Chicago:20260616T151000
DTEND;TZID=America/Chicago:20260616T152500
GEO:33.48883;-86.800959
X-APPLE-STRUCTURED-LOCATION;VALUE=URI;X-ADDRESS=1 Robert S Smith Dr\, Birmi
 ngham\, Jefferson County\, Alabama 35209-1263;X-APPLE-RADIUS=72;X-TITLE=Th
 e Club:geo:33.48883,-86.800959
END:VEVENT
END:VCALENDAR