BEGIN:VCALENDAR
VERSION:2.0
PRODID:spatie/icalendar-generator
NAME:Surgent's Engagement Letters: Scope and Risk Management
X-WR-CALNAME:Surgent's Engagement Letters: Scope and Risk Management
BEGIN:VTIMEZONE
TZID:America/Chicago
BEGIN:STANDARD
DTSTART:20261101T010000
TZOFFSETFROM:-0500
TZOFFSETTO:-0600
END:STANDARD
BEGIN:DAYLIGHT
DTSTART:20270314T010000
TZOFFSETFROM:-0600
TZOFFSETTO:-0500
END:DAYLIGHT
END:VTIMEZONE
BEGIN:VTIMEZONE
TZID:UTC
BEGIN:STANDARD
DTSTART:20250726T185557
TZOFFSETFROM:+0000
TZOFFSETTO:+0000
END:STANDARD
END:VTIMEZONE
BEGIN:VEVENT
UID:69e919bd8e8f2
DTSTAMP:20260422T185557Z
SUMMARY:Surgent's Engagement Letters: Scope and Risk Management
URL:https://alabama.cpa/catalog/events/7710609-surgents-engagement-letters-
 scope-and-risk-management-2027-01-02
DTSTART;TZID=America/Chicago:20270201T130000
DTEND;TZID=America/Chicago:20270201T150000
END:VEVENT
END:VCALENDAR