BEGIN:VCALENDAR
VERSION:2.0
PRODID:spatie/icalendar-generator
NAME:Surgent's Bankruptcy Basics: Understanding the Reorganization and Liqu
 idation Process in These Uncertain Economic Times
X-WR-CALNAME:Surgent's Bankruptcy Basics: Understanding the Reorganization 
 and Liquidation Process in These Uncertain Economic Times
BEGIN:VTIMEZONE
TZID:America/Chicago
BEGIN:STANDARD
DTSTART:20261101T010000
TZOFFSETFROM:-0500
TZOFFSETTO:-0600
END:STANDARD
BEGIN:DAYLIGHT
DTSTART:20270314T010000
TZOFFSETFROM:-0600
TZOFFSETTO:-0500
END:DAYLIGHT
END:VTIMEZONE
BEGIN:VTIMEZONE
TZID:UTC
BEGIN:STANDARD
DTSTART:20250726T185756
TZOFFSETFROM:+0000
TZOFFSETTO:+0000
END:STANDARD
END:VTIMEZONE
BEGIN:VEVENT
UID:69e91a3491284
DTSTAMP:20260422T185756Z
SUMMARY:Surgent's Bankruptcy Basics: Understanding the Reorganization and L
 iquidation Process in These Uncertain Economic Times
URL:https://alabama.cpa/catalog/events/7710659-surgents-bankruptcy-basics-u
 nderstanding-the-reorganization-and-liquidation-process-in-these-uncertain
 -economic-times-2027-02-02
DTSTART;TZID=America/Chicago:20270202T090000
DTEND;TZID=America/Chicago:20270202T110000
END:VEVENT
END:VCALENDAR