BEGIN:VCALENDAR
VERSION:2.0
PRODID:spatie/icalendar-generator
NAME:Surgent's Excel Shortcuts for Accountants
X-WR-CALNAME:Surgent's Excel Shortcuts for Accountants
BEGIN:VTIMEZONE
TZID:America/Chicago
BEGIN:STANDARD
DTSTART:20261101T010000
TZOFFSETFROM:-0500
TZOFFSETTO:-0600
END:STANDARD
BEGIN:DAYLIGHT
DTSTART:20270314T010000
TZOFFSETFROM:-0600
TZOFFSETTO:-0500
END:DAYLIGHT
END:VTIMEZONE
BEGIN:VTIMEZONE
TZID:UTC
BEGIN:STANDARD
DTSTART:20250726T185628
TZOFFSETFROM:+0000
TZOFFSETTO:+0000
END:STANDARD
END:VTIMEZONE
BEGIN:VEVENT
UID:69e919dc32b50
DTSTAMP:20260422T185628Z
SUMMARY:Surgent's Excel Shortcuts for Accountants
URL:https://alabama.cpa/catalog/events/7710695-surgents-excel-shortcuts-for
 -accountants-2027-02-02
DTSTART;TZID=America/Chicago:20270202T120000
DTEND;TZID=America/Chicago:20270202T140000
END:VEVENT
END:VCALENDAR