BEGIN:VCALENDAR
VERSION:2.0
PRODID:spatie/icalendar-generator
NAME:Surgent's Autonomous Agents in Audit and Assurance
X-WR-CALNAME:Surgent's Autonomous Agents in Audit and Assurance
BEGIN:VTIMEZONE
TZID:America/Chicago
BEGIN:STANDARD
DTSTART:20261101T010000
TZOFFSETFROM:-0500
TZOFFSETTO:-0600
END:STANDARD
BEGIN:DAYLIGHT
DTSTART:20270314T010000
TZOFFSETFROM:-0600
TZOFFSETTO:-0500
END:DAYLIGHT
END:VTIMEZONE
BEGIN:VTIMEZONE
TZID:UTC
BEGIN:STANDARD
DTSTART:20250726T185629
TZOFFSETFROM:+0000
TZOFFSETTO:+0000
END:STANDARD
END:VTIMEZONE
BEGIN:VEVENT
UID:69e919dd748e3
DTSTAMP:20260422T185629Z
SUMMARY:Surgent's Autonomous Agents in Audit and Assurance
URL:https://alabama.cpa/catalog/events/7710799-surgents-autonomous-agents-i
 n-audit-and-assurance-2027-03-02
DTSTART;TZID=America/Chicago:20270203T140000
DTEND;TZID=America/Chicago:20270203T160000
END:VEVENT
END:VCALENDAR