BEGIN:VCALENDAR
VERSION:2.0
PRODID:spatie/icalendar-generator
NAME:Surgent's Make Resilience Work for You – An Accounting Leader’s Gu
 ide to a Holistic Approach for Managing Teams
X-WR-CALNAME:Surgent's Make Resilience Work for You – An Accounting Leade
 r’s Guide to a Holistic Approach for Managing Teams
BEGIN:VTIMEZONE
TZID:America/Chicago
BEGIN:STANDARD
DTSTART:20261101T010000
TZOFFSETFROM:-0500
TZOFFSETTO:-0600
END:STANDARD
BEGIN:DAYLIGHT
DTSTART:20270314T010000
TZOFFSETFROM:-0600
TZOFFSETTO:-0500
END:DAYLIGHT
END:VTIMEZONE
BEGIN:VTIMEZONE
TZID:UTC
BEGIN:STANDARD
DTSTART:20250726T185755
TZOFFSETFROM:+0000
TZOFFSETTO:+0000
END:STANDARD
END:VTIMEZONE
BEGIN:VEVENT
UID:69e91a33bd70e
DTSTAMP:20260422T185755Z
SUMMARY:Surgent's Make Resilience Work for You – An Accounting Leader’s
  Guide to a Holistic Approach for Managing Teams
URL:https://alabama.cpa/catalog/events/7710870-surgents-make-resilience-wor
 k-for-you-an-accounting-leaders-guide-to-a-holistic-approach-for-managing-
 teams-2027-03-02
DTSTART;TZID=America/Chicago:20270203T120000
DTEND;TZID=America/Chicago:20270203T140000
END:VEVENT
END:VCALENDAR