BEGIN:VCALENDAR
VERSION:2.0
PRODID:spatie/icalendar-generator
NAME:The Best Federal Tax Update Course by Surgent
X-WR-CALNAME:The Best Federal Tax Update Course by Surgent
BEGIN:VTIMEZONE
TZID:America/Chicago
BEGIN:STANDARD
DTSTART:20261101T010000
TZOFFSETFROM:-0500
TZOFFSETTO:-0600
END:STANDARD
BEGIN:DAYLIGHT
DTSTART:20270314T010000
TZOFFSETFROM:-0600
TZOFFSETTO:-0500
END:DAYLIGHT
END:VTIMEZONE
BEGIN:VTIMEZONE
TZID:UTC
BEGIN:STANDARD
DTSTART:20250726T185811
TZOFFSETFROM:+0000
TZOFFSETTO:+0000
END:STANDARD
END:VTIMEZONE
BEGIN:VEVENT
UID:69e91a436dff7
DTSTAMP:20260422T185811Z
SUMMARY:The Best Federal Tax Update Course by Surgent
URL:https://alabama.cpa/catalog/events/7710941-the-best-federal-tax-update-
 course-by-surgent-2027-04-02
DTSTART;TZID=America/Chicago:20270204T080000
DTEND;TZID=America/Chicago:20270204T160000
END:VEVENT
END:VCALENDAR