BEGIN:VCALENDAR
VERSION:2.0
PRODID:spatie/icalendar-generator
NAME:Surgent's Getting Ready for Busy Season: Review Individual Tax Form Ch
 anges
X-WR-CALNAME:Surgent's Getting Ready for Busy Season: Review Individual Tax
  Form Changes
BEGIN:VTIMEZONE
TZID:America/Chicago
BEGIN:STANDARD
DTSTART:20261101T010000
TZOFFSETFROM:-0500
TZOFFSETTO:-0600
END:STANDARD
BEGIN:DAYLIGHT
DTSTART:20270314T010000
TZOFFSETFROM:-0600
TZOFFSETTO:-0500
END:DAYLIGHT
END:VTIMEZONE
BEGIN:VTIMEZONE
TZID:UTC
BEGIN:STANDARD
DTSTART:20250726T185510
TZOFFSETFROM:+0000
TZOFFSETTO:+0000
END:STANDARD
END:VTIMEZONE
BEGIN:VEVENT
UID:69e9198edf2d7
DTSTAMP:20260422T185510Z
SUMMARY:Surgent's Getting Ready for Busy Season: Review Individual Tax Form
  Changes
URL:https://alabama.cpa/catalog/events/7710993-surgents-getting-ready-for-b
 usy-season-review-individual-tax-form-changes-2027-04-02
DTSTART;TZID=America/Chicago:20270204T120000
DTEND;TZID=America/Chicago:20270204T140000
END:VEVENT
END:VCALENDAR