BEGIN:VCALENDAR
VERSION:2.0
PRODID:spatie/icalendar-generator
NAME:Surgent's Basics of Employment Law for Non-HR Professionals
X-WR-CALNAME:Surgent's Basics of Employment Law for Non-HR Professionals
BEGIN:VTIMEZONE
TZID:America/Chicago
BEGIN:STANDARD
DTSTART:20261101T010000
TZOFFSETFROM:-0500
TZOFFSETTO:-0600
END:STANDARD
BEGIN:DAYLIGHT
DTSTART:20270314T010000
TZOFFSETFROM:-0600
TZOFFSETTO:-0500
END:DAYLIGHT
END:VTIMEZONE
BEGIN:VTIMEZONE
TZID:UTC
BEGIN:STANDARD
DTSTART:20250726T185756
TZOFFSETFROM:+0000
TZOFFSETTO:+0000
END:STANDARD
END:VTIMEZONE
BEGIN:VEVENT
UID:69e91a3438f27
DTSTAMP:20260422T185756Z
SUMMARY:Surgent's Basics of Employment Law for Non-HR Professionals
URL:https://alabama.cpa/catalog/events/7711203-surgents-basics-of-employmen
 t-law-for-non-hr-professionals-2027-08-02
DTSTART;TZID=America/Chicago:20270208T123000
DTEND;TZID=America/Chicago:20270208T163000
END:VEVENT
END:VCALENDAR