BEGIN:VCALENDAR
VERSION:2.0
PRODID:spatie/icalendar-generator
NAME:Surgent's Excel Lookups: Moving Beyond VLOOKUP Limitations
X-WR-CALNAME:Surgent's Excel Lookups: Moving Beyond VLOOKUP Limitations
BEGIN:VTIMEZONE
TZID:America/Chicago
BEGIN:STANDARD
DTSTART:20261101T010000
TZOFFSETFROM:-0500
TZOFFSETTO:-0600
END:STANDARD
BEGIN:DAYLIGHT
DTSTART:20270314T010000
TZOFFSETFROM:-0600
TZOFFSETTO:-0500
END:DAYLIGHT
END:VTIMEZONE
BEGIN:VTIMEZONE
TZID:UTC
BEGIN:STANDARD
DTSTART:20250726T185101
TZOFFSETFROM:+0000
TZOFFSETTO:+0000
END:STANDARD
END:VTIMEZONE
BEGIN:VEVENT
UID:69e9189594331
DTSTAMP:20260422T185101Z
SUMMARY:Surgent's Excel Lookups: Moving Beyond VLOOKUP Limitations
URL:https://alabama.cpa/catalog/events/7711231-surgents-excel-lookups-movin
 g-beyond-vlookup-limitations-2027-08-02
DTSTART;TZID=America/Chicago:20270208T100000
DTEND;TZID=America/Chicago:20270208T120000
END:VEVENT
END:VCALENDAR