BEGIN:VCALENDAR
VERSION:2.0
PRODID:spatie/icalendar-generator
NAME:Surgent's Successful Communication
X-WR-CALNAME:Surgent's Successful Communication
BEGIN:VTIMEZONE
TZID:America/Chicago
BEGIN:STANDARD
DTSTART:20261101T010000
TZOFFSETFROM:-0500
TZOFFSETTO:-0600
END:STANDARD
BEGIN:DAYLIGHT
DTSTART:20270314T010000
TZOFFSETFROM:-0600
TZOFFSETTO:-0500
END:DAYLIGHT
END:VTIMEZONE
BEGIN:VTIMEZONE
TZID:UTC
BEGIN:STANDARD
DTSTART:20250726T185642
TZOFFSETFROM:+0000
TZOFFSETTO:+0000
END:STANDARD
END:VTIMEZONE
BEGIN:VEVENT
UID:69e919ead118c
DTSTAMP:20260422T185642Z
SUMMARY:Surgent's Successful Communication
URL:https://alabama.cpa/catalog/events/7711264-surgents-successful-communic
 ation-2027-08-02
DTSTART;TZID=America/Chicago:20270208T080000
DTEND;TZID=America/Chicago:20270208T120000
END:VEVENT
END:VCALENDAR