BEGIN:VCALENDAR
VERSION:2.0
PRODID:spatie/icalendar-generator
NAME:Surgent's Artificial Intelligence for Accounting and Finance Professio
 nals
X-WR-CALNAME:Surgent's Artificial Intelligence for Accounting and Finance P
 rofessionals
BEGIN:VTIMEZONE
TZID:America/Chicago
BEGIN:STANDARD
DTSTART:20261101T010000
TZOFFSETFROM:-0500
TZOFFSETTO:-0600
END:STANDARD
BEGIN:DAYLIGHT
DTSTART:20270314T010000
TZOFFSETFROM:-0600
TZOFFSETTO:-0500
END:DAYLIGHT
END:VTIMEZONE
BEGIN:VTIMEZONE
TZID:UTC
BEGIN:STANDARD
DTSTART:20250726T185757
TZOFFSETFROM:+0000
TZOFFSETTO:+0000
END:STANDARD
END:VTIMEZONE
BEGIN:VEVENT
UID:69e91a359279e
DTSTAMP:20260422T185757Z
SUMMARY:Surgent's Artificial Intelligence for Accounting and Finance Profes
 sionals
URL:https://alabama.cpa/catalog/events/7711351-surgents-artificial-intellig
 ence-for-accounting-and-finance-professionals-2027-09-02
DTSTART;TZID=America/Chicago:20270209T120000
DTEND;TZID=America/Chicago:20270209T140000
END:VEVENT
END:VCALENDAR