BEGIN:VCALENDAR
VERSION:2.0
PRODID:spatie/icalendar-generator
NAME:Surgent's Understanding How the IRS Rewards Whistleblowers
X-WR-CALNAME:Surgent's Understanding How the IRS Rewards Whistleblowers
BEGIN:VTIMEZONE
TZID:America/Chicago
BEGIN:STANDARD
DTSTART:20261101T010000
TZOFFSETFROM:-0500
TZOFFSETTO:-0600
END:STANDARD
BEGIN:DAYLIGHT
DTSTART:20270314T010000
TZOFFSETFROM:-0600
TZOFFSETTO:-0500
END:DAYLIGHT
END:VTIMEZONE
BEGIN:VTIMEZONE
TZID:UTC
BEGIN:STANDARD
DTSTART:20250726T185430
TZOFFSETFROM:+0000
TZOFFSETTO:+0000
END:STANDARD
END:VTIMEZONE
BEGIN:VEVENT
UID:69e919667af3f
DTSTAMP:20260422T185430Z
SUMMARY:Surgent's Understanding How the IRS Rewards Whistleblowers
URL:https://alabama.cpa/catalog/events/7711598-surgents-understanding-how-t
 he-irs-rewards-whistleblowers-2027-10-02
DTSTART;TZID=America/Chicago:20270210T080000
DTEND;TZID=America/Chicago:20270210T100000
END:VEVENT
END:VCALENDAR