BEGIN:VCALENDAR
VERSION:2.0
PRODID:spatie/icalendar-generator
NAME:Surgent's Employer's Handbook: Legal\, Tax\, and Health Care Issues
X-WR-CALNAME:Surgent's Employer's Handbook: Legal\, Tax\, and Health Care I
 ssues
BEGIN:VTIMEZONE
TZID:America/Chicago
BEGIN:STANDARD
DTSTART:20261101T010000
TZOFFSETFROM:-0500
TZOFFSETTO:-0600
END:STANDARD
BEGIN:DAYLIGHT
DTSTART:20270314T010000
TZOFFSETFROM:-0600
TZOFFSETTO:-0500
END:DAYLIGHT
END:VTIMEZONE
BEGIN:VTIMEZONE
TZID:UTC
BEGIN:STANDARD
DTSTART:20250726T185842
TZOFFSETFROM:+0000
TZOFFSETTO:+0000
END:STANDARD
END:VTIMEZONE
BEGIN:VEVENT
UID:69e91a629a75d
DTSTAMP:20260422T185842Z
SUMMARY:Surgent's Employer's Handbook: Legal\, Tax\, and Health Care Issues
URL:https://alabama.cpa/catalog/events/7711756-surgents-employers-handbook-
 legal-tax-and-health-care-issues-2027-11-02
DTSTART;TZID=America/Chicago:20270211T080000
DTEND;TZID=America/Chicago:20270211T160000
END:VEVENT
END:VCALENDAR