BEGIN:VCALENDAR
VERSION:2.0
PRODID:spatie/icalendar-generator
NAME:Surgent's Comparing and Contrasting Retirement Plans for Small- and Me
 dium-Sized Businesses
X-WR-CALNAME:Surgent's Comparing and Contrasting Retirement Plans for Small
 - and Medium-Sized Businesses
BEGIN:VTIMEZONE
TZID:America/Chicago
BEGIN:STANDARD
DTSTART:20261101T010000
TZOFFSETFROM:-0500
TZOFFSETTO:-0600
END:STANDARD
BEGIN:DAYLIGHT
DTSTART:20270314T010000
TZOFFSETFROM:-0600
TZOFFSETTO:-0500
END:DAYLIGHT
END:VTIMEZONE
BEGIN:VTIMEZONE
TZID:UTC
BEGIN:STANDARD
DTSTART:20250726T185228
TZOFFSETFROM:+0000
TZOFFSETTO:+0000
END:STANDARD
END:VTIMEZONE
BEGIN:VEVENT
UID:69e918ec49b1e
DTSTAMP:20260422T185228Z
SUMMARY:Surgent's Comparing and Contrasting Retirement Plans for Small- and
  Medium-Sized Businesses
URL:https://alabama.cpa/catalog/events/7711930-surgents-comparing-and-contr
 asting-retirement-plans-for-small-and-medium-sized-businesses-2027-12-02
DTSTART;TZID=America/Chicago:20270212T090000
DTEND;TZID=America/Chicago:20270212T110000
END:VEVENT
END:VCALENDAR