BEGIN:VCALENDAR
VERSION:2.0
PRODID:spatie/icalendar-generator
NAME:Surgent's Workplace Harassment: How to Prevent Harassment and Reduce L
 iability Risks in Today’s Changing Environment
X-WR-CALNAME:Surgent's Workplace Harassment: How to Prevent Harassment and 
 Reduce Liability Risks in Today’s Changing Environment
BEGIN:VTIMEZONE
TZID:America/Chicago
BEGIN:STANDARD
DTSTART:20261101T010000
TZOFFSETFROM:-0500
TZOFFSETTO:-0600
END:STANDARD
BEGIN:DAYLIGHT
DTSTART:20270314T010000
TZOFFSETFROM:-0600
TZOFFSETTO:-0500
END:DAYLIGHT
END:VTIMEZONE
BEGIN:VTIMEZONE
TZID:UTC
BEGIN:STANDARD
DTSTART:20250726T185705
TZOFFSETFROM:+0000
TZOFFSETTO:+0000
END:STANDARD
END:VTIMEZONE
BEGIN:VEVENT
UID:69e91a01cb415
DTSTAMP:20260422T185705Z
SUMMARY:Surgent's Workplace Harassment: How to Prevent Harassment and Reduc
 e Liability Risks in Today’s Changing Environment
URL:https://alabama.cpa/catalog/events/7711964-surgents-workplace-harassmen
 t-how-to-prevent-harassment-and-reduce-liability-risks-in-todays-changing-
 environment-2027-12-02
DTSTART;TZID=America/Chicago:20270212T090000
DTEND;TZID=America/Chicago:20270212T110000
END:VEVENT
END:VCALENDAR