BEGIN:VCALENDAR
VERSION:2.0
PRODID:spatie/icalendar-generator
NAME:Surgent's Virtual Currency: Keeping Up with the Tax Code
X-WR-CALNAME:Surgent's Virtual Currency: Keeping Up with the Tax Code
BEGIN:VTIMEZONE
TZID:America/Chicago
BEGIN:STANDARD
DTSTART:20261101T010000
TZOFFSETFROM:-0500
TZOFFSETTO:-0600
END:STANDARD
BEGIN:DAYLIGHT
DTSTART:20270314T010000
TZOFFSETFROM:-0600
TZOFFSETTO:-0500
END:DAYLIGHT
END:VTIMEZONE
BEGIN:VTIMEZONE
TZID:UTC
BEGIN:STANDARD
DTSTART:20250726T185450
TZOFFSETFROM:+0000
TZOFFSETTO:+0000
END:STANDARD
END:VTIMEZONE
BEGIN:VEVENT
UID:69e9197a64d07
DTSTAMP:20260422T185450Z
SUMMARY:Surgent's Virtual Currency: Keeping Up with the Tax Code
URL:https://alabama.cpa/catalog/events/7712108-surgents-virtual-currency-ke
 eping-up-with-the-tax-code-2027-16-02
DTSTART;TZID=America/Chicago:20270216T120000
DTEND;TZID=America/Chicago:20270216T140000
END:VEVENT
END:VCALENDAR