BEGIN:VCALENDAR
VERSION:2.0
PRODID:spatie/icalendar-generator
NAME:Surgent's Employer's Handbook: Health Care\, Retirement\, and Fringe B
 enefit Tax Issues
X-WR-CALNAME:Surgent's Employer's Handbook: Health Care\, Retirement\, and 
 Fringe Benefit Tax Issues
BEGIN:VTIMEZONE
TZID:America/Chicago
BEGIN:STANDARD
DTSTART:20261101T010000
TZOFFSETFROM:-0500
TZOFFSETTO:-0600
END:STANDARD
BEGIN:DAYLIGHT
DTSTART:20270314T010000
TZOFFSETFROM:-0600
TZOFFSETTO:-0500
END:DAYLIGHT
END:VTIMEZONE
BEGIN:VTIMEZONE
TZID:UTC
BEGIN:STANDARD
DTSTART:20250726T185740
TZOFFSETFROM:+0000
TZOFFSETTO:+0000
END:STANDARD
END:VTIMEZONE
BEGIN:VEVENT
UID:69e91a24d835a
DTSTAMP:20260422T185740Z
SUMMARY:Surgent's Employer's Handbook: Health Care\, Retirement\, and Fring
 e Benefit Tax Issues
URL:https://alabama.cpa/catalog/events/7712206-surgents-employers-handbook-
 health-care-retirement-and-fringe-benefit-tax-issues-2027-17-02
DTSTART;TZID=America/Chicago:20270217T080000
DTEND;TZID=America/Chicago:20270217T120000
END:VEVENT
END:VCALENDAR