BEGIN:VCALENDAR
VERSION:2.0
PRODID:spatie/icalendar-generator
NAME:Surgent's New and Expanded Tax Benefits Associated with Section 1202 
 – Qualified Small Business Stock
X-WR-CALNAME:Surgent's New and Expanded Tax Benefits Associated with Sectio
 n 1202 – Qualified Small Business Stock
BEGIN:VTIMEZONE
TZID:America/Chicago
BEGIN:STANDARD
DTSTART:20261101T010000
TZOFFSETFROM:-0500
TZOFFSETTO:-0600
END:STANDARD
BEGIN:DAYLIGHT
DTSTART:20270314T010000
TZOFFSETFROM:-0600
TZOFFSETTO:-0500
END:DAYLIGHT
END:VTIMEZONE
BEGIN:VTIMEZONE
TZID:UTC
BEGIN:STANDARD
DTSTART:20250726T185429
TZOFFSETFROM:+0000
TZOFFSETTO:+0000
END:STANDARD
END:VTIMEZONE
BEGIN:VEVENT
UID:69e919657a773
DTSTAMP:20260422T185429Z
SUMMARY:Surgent's New and Expanded Tax Benefits Associated with Section 120
 2 – Qualified Small Business Stock
URL:https://alabama.cpa/catalog/events/7712460-surgents-new-and-expanded-ta
 x-benefits-associated-with-section-1202-qualified-small-business-stock-202
 7-18-02
DTSTART;TZID=America/Chicago:20270218T090000
DTEND;TZID=America/Chicago:20270218T110000
END:VEVENT
END:VCALENDAR