BEGIN:VCALENDAR
VERSION:2.0
PRODID:spatie/icalendar-generator
NAME:Surgent's Construction Contractors: Accounting and Financial Reporting
  Issues
X-WR-CALNAME:Surgent's Construction Contractors: Accounting and Financial R
 eporting Issues
BEGIN:VTIMEZONE
TZID:America/Chicago
BEGIN:STANDARD
DTSTART:20261101T010000
TZOFFSETFROM:-0500
TZOFFSETTO:-0600
END:STANDARD
BEGIN:DAYLIGHT
DTSTART:20270314T010000
TZOFFSETFROM:-0600
TZOFFSETTO:-0500
END:DAYLIGHT
END:VTIMEZONE
BEGIN:VTIMEZONE
TZID:UTC
BEGIN:STANDARD
DTSTART:20250726T185430
TZOFFSETFROM:+0000
TZOFFSETTO:+0000
END:STANDARD
END:VTIMEZONE
BEGIN:VEVENT
UID:69e9196664e90
DTSTAMP:20260422T185430Z
SUMMARY:Surgent's Construction Contractors: Accounting and Financial Report
 ing Issues
URL:https://alabama.cpa/catalog/events/7712488-surgents-construction-contra
 ctors-accounting-and-financial-reporting-issues-2027-19-02
DTSTART;TZID=America/Chicago:20270219T120000
DTEND;TZID=America/Chicago:20270219T160000
END:VEVENT
END:VCALENDAR