BEGIN:VCALENDAR
VERSION:2.0
PRODID:spatie/icalendar-generator
NAME:Surgent's Management Fundamentals
X-WR-CALNAME:Surgent's Management Fundamentals
BEGIN:VTIMEZONE
TZID:America/Chicago
BEGIN:STANDARD
DTSTART:20261101T010000
TZOFFSETFROM:-0500
TZOFFSETTO:-0600
END:STANDARD
BEGIN:DAYLIGHT
DTSTART:20270314T010000
TZOFFSETFROM:-0600
TZOFFSETTO:-0500
END:DAYLIGHT
END:VTIMEZONE
BEGIN:VTIMEZONE
TZID:UTC
BEGIN:STANDARD
DTSTART:20250726T185556
TZOFFSETFROM:+0000
TZOFFSETTO:+0000
END:STANDARD
END:VTIMEZONE
BEGIN:VEVENT
UID:69e919bca2b80
DTSTAMP:20260422T185556Z
SUMMARY:Surgent's Management Fundamentals
URL:https://alabama.cpa/catalog/events/7712576-surgents-management-fundamen
 tals-2027-19-02
DTSTART;TZID=America/Chicago:20270219T080000
DTEND;TZID=America/Chicago:20270219T120000
END:VEVENT
END:VCALENDAR