BEGIN:VCALENDAR
VERSION:2.0
PRODID:spatie/icalendar-generator
NAME:Surgent's Work-Life Balance: Maximizing Productivity and Understanding
  Related Tax Issues
X-WR-CALNAME:Surgent's Work-Life Balance: Maximizing Productivity and Under
 standing Related Tax Issues
BEGIN:VTIMEZONE
TZID:America/Chicago
BEGIN:STANDARD
DTSTART:20261101T010000
TZOFFSETFROM:-0500
TZOFFSETTO:-0600
END:STANDARD
BEGIN:DAYLIGHT
DTSTART:20270314T010000
TZOFFSETFROM:-0600
TZOFFSETTO:-0500
END:DAYLIGHT
END:VTIMEZONE
BEGIN:VTIMEZONE
TZID:UTC
BEGIN:STANDARD
DTSTART:20250726T185105
TZOFFSETFROM:+0000
TZOFFSETTO:+0000
END:STANDARD
END:VTIMEZONE
BEGIN:VEVENT
UID:69e91899d0017
DTSTAMP:20260422T185105Z
SUMMARY:Surgent's Work-Life Balance: Maximizing Productivity and Understand
 ing Related Tax Issues
URL:https://alabama.cpa/catalog/events/7712589-surgents-work-life-balance-m
 aximizing-productivity-and-understanding-related-tax-issues-2027-19-02
DTSTART;TZID=America/Chicago:20270219T140000
DTEND;TZID=America/Chicago:20270219T160000
END:VEVENT
END:VCALENDAR