BEGIN:VCALENDAR
VERSION:2.0
PRODID:spatie/icalendar-generator
NAME:Surgent's Performing an Effective Audit Risk Assessment
X-WR-CALNAME:Surgent's Performing an Effective Audit Risk Assessment
BEGIN:VTIMEZONE
TZID:America/Chicago
BEGIN:STANDARD
DTSTART:20261101T010000
TZOFFSETFROM:-0500
TZOFFSETTO:-0600
END:STANDARD
BEGIN:DAYLIGHT
DTSTART:20270314T010000
TZOFFSETFROM:-0600
TZOFFSETTO:-0500
END:DAYLIGHT
END:VTIMEZONE
BEGIN:VTIMEZONE
TZID:UTC
BEGIN:STANDARD
DTSTART:20250726T185109
TZOFFSETFROM:+0000
TZOFFSETTO:+0000
END:STANDARD
END:VTIMEZONE
BEGIN:VEVENT
UID:69e9189d0d19a
DTSTAMP:20260422T185109Z
SUMMARY:Surgent's Performing an Effective Audit Risk Assessment
URL:https://alabama.cpa/catalog/events/7712938-surgents-performing-an-effec
 tive-audit-risk-assessment-2027-24-02
DTSTART;TZID=America/Chicago:20270224T120000
DTEND;TZID=America/Chicago:20270224T160000
END:VEVENT
END:VCALENDAR