BEGIN:VCALENDAR
VERSION:2.0
PRODID:spatie/icalendar-generator
NAME:Surgent's Food\, Beverage\, and Entertainment Expensing
X-WR-CALNAME:Surgent's Food\, Beverage\, and Entertainment Expensing
BEGIN:VTIMEZONE
TZID:America/Chicago
BEGIN:STANDARD
DTSTART:20261101T010000
TZOFFSETFROM:-0500
TZOFFSETTO:-0600
END:STANDARD
BEGIN:DAYLIGHT
DTSTART:20270314T010000
TZOFFSETFROM:-0600
TZOFFSETTO:-0500
END:DAYLIGHT
END:VTIMEZONE
BEGIN:VTIMEZONE
TZID:UTC
BEGIN:STANDARD
DTSTART:20250726T185234
TZOFFSETFROM:+0000
TZOFFSETTO:+0000
END:STANDARD
END:VTIMEZONE
BEGIN:VEVENT
UID:69e918f2b6e21
DTSTAMP:20260422T185234Z
SUMMARY:Surgent's Food\, Beverage\, and Entertainment Expensing
URL:https://alabama.cpa/catalog/events/7713024-surgents-food-beverage-and-e
 ntertainment-expensing-2027-25-02
DTSTART;TZID=America/Chicago:20270225T090000
DTEND;TZID=America/Chicago:20270225T110000
END:VEVENT
END:VCALENDAR