BEGIN:VCALENDAR
VERSION:2.0
PRODID:spatie/icalendar-generator
NAME:Surgent's Tax Update for Client Advisory Services
X-WR-CALNAME:Surgent's Tax Update for Client Advisory Services
BEGIN:VTIMEZONE
TZID:America/Chicago
BEGIN:STANDARD
DTSTART:20261101T010000
TZOFFSETFROM:-0500
TZOFFSETTO:-0600
END:STANDARD
BEGIN:DAYLIGHT
DTSTART:20270314T010000
TZOFFSETFROM:-0600
TZOFFSETTO:-0500
END:DAYLIGHT
END:VTIMEZONE
BEGIN:VTIMEZONE
TZID:UTC
BEGIN:STANDARD
DTSTART:20250726T185900
TZOFFSETFROM:+0000
TZOFFSETTO:+0000
END:STANDARD
END:VTIMEZONE
BEGIN:VEVENT
UID:69e91a7457156
DTSTAMP:20260422T185900Z
SUMMARY:Surgent's Tax Update for Client Advisory Services
URL:https://alabama.cpa/catalog/events/7713137-surgents-tax-update-for-clie
 nt-advisory-services-2027-25-02
DTSTART;TZID=America/Chicago:20270225T080000
DTEND;TZID=America/Chicago:20270225T120000
END:VEVENT
END:VCALENDAR