BEGIN:VCALENDAR
VERSION:2.0
PRODID:spatie/icalendar-generator
NAME:Surgent's Section 754 Step-Up in Basis: Understanding the Tax Issues f
 or Partnerships and LLCs
X-WR-CALNAME:Surgent's Section 754 Step-Up in Basis: Understanding the Tax 
 Issues for Partnerships and LLCs
BEGIN:VTIMEZONE
TZID:America/Chicago
BEGIN:STANDARD
DTSTART:20261101T010000
TZOFFSETFROM:-0500
TZOFFSETTO:-0600
END:STANDARD
BEGIN:DAYLIGHT
DTSTART:20270314T010000
TZOFFSETFROM:-0600
TZOFFSETTO:-0500
END:DAYLIGHT
END:VTIMEZONE
BEGIN:VTIMEZONE
TZID:UTC
BEGIN:STANDARD
DTSTART:20250726T185402
TZOFFSETFROM:+0000
TZOFFSETTO:+0000
END:STANDARD
END:VTIMEZONE
BEGIN:VEVENT
UID:69e9194a87315
DTSTAMP:20260422T185402Z
SUMMARY:Surgent's Section 754 Step-Up in Basis: Understanding the Tax Issue
 s for Partnerships and LLCs
URL:https://alabama.cpa/catalog/events/7713188-surgents-section-754-step-up
 -in-basis-understanding-the-tax-issues-for-partnerships-and-llcs-2027-26-0
 2
DTSTART;TZID=America/Chicago:20270226T090000
DTEND;TZID=America/Chicago:20270226T110000
END:VEVENT
END:VCALENDAR