BEGIN:VCALENDAR
VERSION:2.0
PRODID:spatie/icalendar-generator
NAME:Surgent's System and Organization Controls (SOC) Engagements
X-WR-CALNAME:Surgent's System and Organization Controls (SOC) Engagements
BEGIN:VTIMEZONE
TZID:America/Chicago
BEGIN:STANDARD
DTSTART:20261101T010000
TZOFFSETFROM:-0500
TZOFFSETTO:-0600
END:STANDARD
BEGIN:DAYLIGHT
DTSTART:20270314T010000
TZOFFSETFROM:-0600
TZOFFSETTO:-0500
END:DAYLIGHT
END:VTIMEZONE
BEGIN:VTIMEZONE
TZID:UTC
BEGIN:STANDARD
DTSTART:20250726T185401
TZOFFSETFROM:+0000
TZOFFSETTO:+0000
END:STANDARD
END:VTIMEZONE
BEGIN:VEVENT
UID:69e9194917be8
DTSTAMP:20260422T185401Z
SUMMARY:Surgent's System and Organization Controls (SOC) Engagements
URL:https://alabama.cpa/catalog/events/7713213-surgents-system-and-organiza
 tion-controls-soc-engagements-2027-26-02
DTSTART;TZID=America/Chicago:20270226T140000
DTEND;TZID=America/Chicago:20270226T160000
END:VEVENT
END:VCALENDAR