BEGIN:VCALENDAR
VERSION:2.0
PRODID:spatie/icalendar-generator
NAME:Surgent's Introduction to AI in Accounting
X-WR-CALNAME:Surgent's Introduction to AI in Accounting
BEGIN:VTIMEZONE
TZID:America/Chicago
BEGIN:STANDARD
DTSTART:20261101T010000
TZOFFSETFROM:-0500
TZOFFSETTO:-0600
END:STANDARD
BEGIN:DAYLIGHT
DTSTART:20270314T010000
TZOFFSETFROM:-0600
TZOFFSETTO:-0500
END:DAYLIGHT
END:VTIMEZONE
BEGIN:VTIMEZONE
TZID:UTC
BEGIN:STANDARD
DTSTART:20250726T185430
TZOFFSETFROM:+0000
TZOFFSETTO:+0000
END:STANDARD
END:VTIMEZONE
BEGIN:VEVENT
UID:69e919669047f
DTSTAMP:20260422T185430Z
SUMMARY:Surgent's Introduction to AI in Accounting
URL:https://alabama.cpa/catalog/events/7713281-surgents-introduction-to-ai-
 in-accounting-2027-01-03
DTSTART;TZID=America/Chicago:20270301T120000
DTEND;TZID=America/Chicago:20270301T140000
END:VEVENT
END:VCALENDAR