BEGIN:VCALENDAR
VERSION:2.0
PRODID:spatie/icalendar-generator
NAME:Surgent's Getting Ahead: The Art of Marketing for CPAs
X-WR-CALNAME:Surgent's Getting Ahead: The Art of Marketing for CPAs
BEGIN:VTIMEZONE
TZID:America/Chicago
BEGIN:STANDARD
DTSTART:20261101T010000
TZOFFSETFROM:-0500
TZOFFSETTO:-0600
END:STANDARD
BEGIN:DAYLIGHT
DTSTART:20270314T010000
TZOFFSETFROM:-0600
TZOFFSETTO:-0500
END:DAYLIGHT
END:VTIMEZONE
BEGIN:VTIMEZONE
TZID:UTC
BEGIN:STANDARD
DTSTART:20250726T185811
TZOFFSETFROM:+0000
TZOFFSETTO:+0000
END:STANDARD
END:VTIMEZONE
BEGIN:VEVENT
UID:69e91a4385acb
DTSTAMP:20260422T185811Z
SUMMARY:Surgent's Getting Ahead: The Art of Marketing for CPAs
URL:https://alabama.cpa/catalog/events/7713292-surgents-getting-ahead-the-a
 rt-of-marketing-for-cpas-2027-01-03
DTSTART;TZID=America/Chicago:20270301T090000
DTEND;TZID=America/Chicago:20270301T110000
END:VEVENT
END:VCALENDAR