BEGIN:VCALENDAR
VERSION:2.0
PRODID:spatie/icalendar-generator
NAME:Surgent's Artificial Intelligence for Accounting and Finance Professio
 nals
X-WR-CALNAME:Surgent's Artificial Intelligence for Accounting and Finance P
 rofessionals
BEGIN:VTIMEZONE
TZID:America/Chicago
BEGIN:STANDARD
DTSTART:20261101T010000
TZOFFSETFROM:-0500
TZOFFSETTO:-0600
END:STANDARD
BEGIN:DAYLIGHT
DTSTART:20270314T010000
TZOFFSETFROM:-0600
TZOFFSETTO:-0500
END:DAYLIGHT
END:VTIMEZONE
BEGIN:VTIMEZONE
TZID:UTC
BEGIN:STANDARD
DTSTART:20250726T185234
TZOFFSETFROM:+0000
TZOFFSETTO:+0000
END:STANDARD
END:VTIMEZONE
BEGIN:VEVENT
UID:69e918f2a07f7
DTSTAMP:20260422T185234Z
SUMMARY:Surgent's Artificial Intelligence for Accounting and Finance Profes
 sionals
URL:https://alabama.cpa/catalog/events/7713403-surgents-artificial-intellig
 ence-for-accounting-and-finance-professionals-2027-02-03
DTSTART;TZID=America/Chicago:20270302T130000
DTEND;TZID=America/Chicago:20270302T150000
END:VEVENT
END:VCALENDAR